BEGIN:VCALENDAR
VERSION:2.0
PRODID:-//From the Heart Church Ministries of Waldorf - ECPv6.15.3//NONSGML v1.0//EN
CALSCALE:GREGORIAN
METHOD:PUBLISH
X-WR-CALNAME:From the Heart Church Ministries of Waldorf
X-ORIGINAL-URL:https://fthcmow.org
X-WR-CALDESC:Events for From the Heart Church Ministries of Waldorf
REFRESH-INTERVAL;VALUE=DURATION:PT1H
X-Robots-Tag:noindex
X-PUBLISHED-TTL:PT1H
BEGIN:VTIMEZONE
TZID:UTC
BEGIN:STANDARD
TZOFFSETFROM:+0000
TZOFFSETTO:+0000
TZNAME:UTC
DTSTART:20170101T000000
END:STANDARD
END:VTIMEZONE
BEGIN:VEVENT
DTSTART;TZID=UTC:20220312T080000
DTEND;TZID=UTC:20220331T170000
DTSTAMP:20260424T153205
CREATED:20220312T215414Z
LAST-MODIFIED:20220312T234324Z
UID:37981-1647072000-1648746000@fthcmow.org
SUMMARY:Bless the Community and Support a local Women's Shelter today!
DESCRIPTION:We have the wonderful opportunity to Bless the Community in Charles County. Support a local Women’s Shelter today! \nThe women residing at the shelter are in need of the following items: \n\nSheets for Twin Beds\nSheets for Full Beds\nComforters for Twin Beds\nComforters for Full Beds\nPillows\nLaundry Detergent\nFabric Softener\nDryer Sheets
URL:https://fthcmow.org/event/bless-the-community-and-support-a-local-womens-shelter-today/
ATTACH;FMTTYPE=image/png:https://fthcmow.org/wp-content/uploads/2022/03/Womans-Shelter.png
END:VEVENT
BEGIN:VEVENT
DTSTART;VALUE=DATE:20191231
DTEND;VALUE=DATE:20200101
DTSTAMP:20260424T153205
CREATED:20191020T020011Z
LAST-MODIFIED:20191020T020011Z
UID:14868-1577750400-1577836799@fthcmow.org
SUMMARY:Volunteer Appreciation Dinner\, NYE Service and Family Fun Night\, Tuesday\, December 31st
DESCRIPTION:
URL:https://fthcmow.org/event/volunteer-appreciation-dinner-nye-service-and-family-fun-night-tuesday-december-31st/
END:VEVENT
BEGIN:VEVENT
DTSTART;VALUE=DATE:20191224
DTEND;VALUE=DATE:20191225
DTSTAMP:20260424T153205
CREATED:20191020T015841Z
LAST-MODIFIED:20191020T015841Z
UID:14866-1577145600-1577231999@fthcmow.org
SUMMARY:Christmas Eve Fellowship\, Tuesday\, December 24th Time: TBD
DESCRIPTION:
URL:https://fthcmow.org/event/christmas-eve-fellowship-tuesday-december-24th-time-tbd/
END:VEVENT
BEGIN:VEVENT
DTSTART;VALUE=DATE:20191211
DTEND;VALUE=DATE:20191215
DTSTAMP:20260424T153205
CREATED:20191020T015101Z
LAST-MODIFIED:20191020T015101Z
UID:14864-1576022400-1576367999@fthcmow.org
SUMMARY:Men's Retreat\, Wednesday December 11th - Saturday December 14th
DESCRIPTION:
URL:https://fthcmow.org/event/mens-retreat-wednesday-december-11th-saturday-december-14th/
END:VEVENT
BEGIN:VEVENT
DTSTART;TZID=UTC:20191128T100000
DTEND;TZID=UTC:20191128T110000
DTSTAMP:20260424T153205
CREATED:20191020T014919Z
LAST-MODIFIED:20191020T014919Z
UID:14862-1574935200-1574938800@fthcmow.org
SUMMARY:Thanksgiving Service\, Thursday November 28th @ 10:00 am
DESCRIPTION:
URL:https://fthcmow.org/event/thanksgiving-service-thursday-november-28th-1000-am/
END:VEVENT
BEGIN:VEVENT
DTSTART;VALUE=DATE:20191106
DTEND;VALUE=DATE:20191109
DTSTAMP:20260424T153205
CREATED:20191020T014706Z
LAST-MODIFIED:20191020T014746Z
UID:14860-1572998400-1573257599@fthcmow.org
SUMMARY:Women's Retreat - Wednesday November 6th - Friday November 8th
DESCRIPTION:
URL:https://fthcmow.org/event/womens-retreat-wednesday-november-6th-friday-november-8th/
END:VEVENT
BEGIN:VEVENT
DTSTART;TZID=UTC:20191029T193000
DTEND;TZID=UTC:20191029T203000
DTSTAMP:20260424T153205
CREATED:20191020T014451Z
LAST-MODIFIED:20191020T014451Z
UID:14858-1572377400-1572381000@fthcmow.org
SUMMARY:Final Q&A Session\, Tuesday\, October 29th at 7:30 pm
DESCRIPTION:
URL:https://fthcmow.org/event/final-qa-session-tuesday-october-29th-at-730-pm/
END:VEVENT
BEGIN:VEVENT
DTSTART;TZID=UTC:20191022T183000
DTEND;TZID=UTC:20191022T191500
DTSTAMP:20260424T153205
CREATED:20191020T014227Z
LAST-MODIFIED:20191020T014313Z
UID:14856-1571769000-1571771700@fthcmow.org
SUMMARY:Final Perfecting Class Starts Tuesday\, October 22nd 2019 @ 6:30 pm
DESCRIPTION:
URL:https://fthcmow.org/event/final-perfecting-class-starts-tuesday-october-22nd-2019-630-pm/
END:VEVENT
BEGIN:VEVENT
DTSTART;VALUE=DATE:20190417
DTEND;VALUE=DATE:20190418
DTSTAMP:20260424T153205
CREATED:20170804T150510Z
LAST-MODIFIED:20190417T132120Z
UID:13190-1555459200-1555545599@fthcmow.org
SUMMARY:20/30 Young Adults: Round Table
DESCRIPTION:Cras dapibus ullamcorper dictum. Vivamus nec erat placerat felis scelerisque porttitor in ac turpis. In nec imperdiet turpis. Suspendisse quis orci ut orci pulvinar eleifend. Nulla eu mattis ipsum. Integer eget sagittis nulla. Praesent consectetur lacus et maximus eleifend. Integer non lacus dui. Mauris tortor diam\, laoreet quis commodo vitae\, sodales vel augue.| Sed rutrum\, libero non pretium tristique\, arcu mi sollicitudin ex\, quis venenatis orci tellus vel dolor. Donec gravida\, dolor ut auctor facilisis\, enim dolor pellentesque lectus\, nec vehicula nibh risus ac leo. Mauris volutpat aliquam tellus nec rhoncus. Aliquam et nibh pulvinar\, sodales nibh et\, pretium urna. Vivamus quam augue\, maximus in consequat imperdiet\, iaculis non nibh. Aliquam erat volutpat. Curabitur venenatis massa sed lacus tristique\, non auctor nisl sodales. Sed ultricies lacus ut libero faucibus fringilla. Ut nisi tellus\, posuere vel mattis nec\, convallis a metus. Nullam elementum molestie felis nec lobortis. Cras at justo eu elit semper tempor sed quis orci. In risus magna\, malesuada vel elementum ut\, finibus et nunc.\n 
URL:https://fthcmow.org/event/2030-young-adults-round-table/
LOCATION:Central Park\, Brooklyn\, NY 10036\, New York\, NY\, United States
CATEGORIES:Events
ATTACH;FMTTYPE=image/jpeg:https://fthcmow.org/wp-content/uploads/2019/03/lo.jpg
ORGANIZER;CN="Nick Sims":MAILTO:sims@example.com
END:VEVENT
BEGIN:VEVENT
DTSTART;VALUE=DATE:20180126
DTEND;VALUE=DATE:20180129
DTSTAMP:20260424T153205
CREATED:20160701T000000Z
LAST-MODIFIED:20160701T000000Z
UID:10792-1516924800-1517183999@fthcmow.org
SUMMARY:Adult Sunday School Groups
DESCRIPTION:Cras dapibus ullamcorper dictum. Vivamus nec erat placerat felis scelerisque porttitor in ac turpis. In nec imperdiet turpis. Suspendisse quis orci ut orci pulvinar eleifend. Nulla eu mattis ipsum. Integer eget sagittis nulla. Praesent consectetur lacus et maximus eleifend. Integer non lacus dui. Mauris tortor diam\, laoreet quis commodo vitae\, sodales vel augue.| Sed rutrum\, libero non pretium tristique\, arcu mi sollicitudin ex\, quis venenatis orci tellus vel dolor. Donec gravida\, dolor ut auctor facilisis\, enim dolor pellentesque lectus\, nec vehicula nibh risus ac leo. Mauris volutpat aliquam tellus nec rhoncus. Aliquam et nibh pulvinar\, sodales nibh et\, pretium urna. Vivamus quam augue\, maximus in consequat imperdiet\, iaculis non nibh. Aliquam erat volutpat. Curabitur venenatis massa sed lacus tristique\, non auctor nisl sodales. Sed ultricies lacus ut libero faucibus fringilla. Ut nisi tellus\, posuere vel mattis nec\, convallis a metus. Nullam elementum molestie felis nec lobortis. Cras at justo eu elit semper tempor sed quis orci. In risus magna\, malesuada vel elementum ut\, finibus et nunc. \n 
URL:https://fthcmow.org/event/adult-sunday-school-groups/
LOCATION:Central Park\, Brooklyn\, NY 10036\, New York\, NY\, United States
CATEGORIES:Events
ATTACH;FMTTYPE=image/jpeg:https://fthcmow.org/wp-content/uploads/2017/09/03.jpg
ORGANIZER;CN="Nick Sims":MAILTO:sims@example.com
END:VEVENT
BEGIN:VEVENT
DTSTART;VALUE=DATE:20180114
DTEND;VALUE=DATE:20180117
DTSTAMP:20260424T153205
CREATED:20170804T150820Z
LAST-MODIFIED:20170804T150820Z
UID:13192-1515888000-1516147199@fthcmow.org
SUMMARY:KiDSCOR Play Date at the Park!
DESCRIPTION:Cras dapibus ullamcorper dictum. Vivamus nec erat placerat felis scelerisque porttitor in ac turpis. In nec imperdiet turpis. Suspendisse quis orci ut orci pulvinar eleifend. Nulla eu mattis ipsum. Integer eget sagittis nulla. Praesent consectetur lacus et maximus eleifend. Integer non lacus dui. Mauris tortor diam\, laoreet quis commodo vitae\, sodales vel augue.| Sed rutrum\, libero non pretium tristique\, arcu mi sollicitudin ex\, quis venenatis orci tellus vel dolor. Donec gravida\, dolor ut auctor facilisis\, enim dolor pellentesque lectus\, nec vehicula nibh risus ac leo. Mauris volutpat aliquam tellus nec rhoncus. Aliquam et nibh pulvinar\, sodales nibh et\, pretium urna. Vivamus quam augue\, maximus in consequat imperdiet\, iaculis non nibh. Aliquam erat volutpat. Curabitur venenatis massa sed lacus tristique\, non auctor nisl sodales. Sed ultricies lacus ut libero faucibus fringilla. Ut nisi tellus\, posuere vel mattis nec\, convallis a metus. Nullam elementum molestie felis nec lobortis. Cras at justo eu elit semper tempor sed quis orci. In risus magna\, malesuada vel elementum ut\, finibus et nunc. \n 
URL:https://fthcmow.org/event/kidscor-play-date-at-the-park/
LOCATION:Central Park\, Brooklyn\, NY 10036\, New York\, NY\, United States
CATEGORIES:Events
ATTACH;FMTTYPE=image/jpeg:https://fthcmow.org/wp-content/uploads/2017/09/04.jpg
ORGANIZER;CN="Nick Sims":MAILTO:sims@example.com
END:VEVENT
BEGIN:VEVENT
DTSTART;VALUE=DATE:20180109
DTEND;VALUE=DATE:20180114
DTSTAMP:20260424T153205
CREATED:20160713T000000Z
LAST-MODIFIED:20160713T000000Z
UID:10801-1515456000-1515887999@fthcmow.org
SUMMARY:A Message for Parents and Grandparents
DESCRIPTION:Cras dapibus ullamcorper dictum. Vivamus nec erat placerat felis scelerisque porttitor in ac turpis. In nec imperdiet turpis. Suspendisse quis orci ut orci pulvinar eleifend. Nulla eu mattis ipsum. Integer eget sagittis nulla. Praesent consectetur lacus et maximus eleifend. Integer non lacus dui. Mauris tortor diam\, laoreet quis commodo vitae\, sodales vel augue.| Sed rutrum\, libero non pretium tristique\, arcu mi sollicitudin ex\, quis venenatis orci tellus vel dolor. Donec gravida\, dolor ut auctor facilisis\, enim dolor pellentesque lectus\, nec vehicula nibh risus ac leo. Mauris volutpat aliquam tellus nec rhoncus. Aliquam et nibh pulvinar\, sodales nibh et\, pretium urna. Vivamus quam augue\, maximus in consequat imperdiet\, iaculis non nibh. Aliquam erat volutpat. Curabitur venenatis massa sed lacus tristique\, non auctor nisl sodales. Sed ultricies lacus ut libero faucibus fringilla. Ut nisi tellus\, posuere vel mattis nec\, convallis a metus. Nullam elementum molestie felis nec lobortis. Cras at justo eu elit semper tempor sed quis orci. In risus magna\, malesuada vel elementum ut\, finibus et nunc. \n 
URL:https://fthcmow.org/event/a-message-for-parents-and-grandparents/
LOCATION:Central Park\, Brooklyn\, NY 10036\, New York\, NY\, United States
CATEGORIES:Events
ATTACH;FMTTYPE=image/jpeg:https://fthcmow.org/wp-content/uploads/2017/09/04.jpg
ORGANIZER;CN="Nick Sims":MAILTO:sims@example.com
END:VEVENT
BEGIN:VEVENT
DTSTART;VALUE=DATE:20171230
DTEND;VALUE=DATE:20180102
DTSTAMP:20260424T153205
CREATED:20170804T150321Z
LAST-MODIFIED:20170804T150321Z
UID:13188-1514592000-1514851199@fthcmow.org
SUMMARY:Making Sense of the Bible
DESCRIPTION:Cras dapibus ullamcorper dictum. Vivamus nec erat placerat felis scelerisque porttitor in ac turpis. In nec imperdiet turpis. Suspendisse quis orci ut orci pulvinar eleifend. Nulla eu mattis ipsum. Integer eget sagittis nulla. Praesent consectetur lacus et maximus eleifend. Integer non lacus dui. Mauris tortor diam\, laoreet quis commodo vitae\, sodales vel augue.| Sed rutrum\, libero non pretium tristique\, arcu mi sollicitudin ex\, quis venenatis orci tellus vel dolor. Donec gravida\, dolor ut auctor facilisis\, enim dolor pellentesque lectus\, nec vehicula nibh risus ac leo. Mauris volutpat aliquam tellus nec rhoncus. Aliquam et nibh pulvinar\, sodales nibh et\, pretium urna. Vivamus quam augue\, maximus in consequat imperdiet\, iaculis non nibh. Aliquam erat volutpat. Curabitur venenatis massa sed lacus tristique\, non auctor nisl sodales. Sed ultricies lacus ut libero faucibus fringilla. Ut nisi tellus\, posuere vel mattis nec\, convallis a metus. Nullam elementum molestie felis nec lobortis. Cras at justo eu elit semper tempor sed quis orci. In risus magna\, malesuada vel elementum ut\, finibus et nunc. \n 
URL:https://fthcmow.org/event/making-sense-of-the-bible/
LOCATION:Central Park\, Brooklyn\, NY 10036\, New York\, NY\, United States
CATEGORIES:Events
ATTACH;FMTTYPE=image/jpeg:https://fthcmow.org/wp-content/uploads/2017/09/02.jpg
ORGANIZER;CN="Nick Sims":MAILTO:sims@example.com
END:VEVENT
BEGIN:VEVENT
DTSTART;VALUE=DATE:20171228
DTEND;VALUE=DATE:20180102
DTSTAMP:20260424T153205
CREATED:20160718T000000Z
LAST-MODIFIED:20160718T000000Z
UID:10803-1514419200-1514851199@fthcmow.org
SUMMARY:School Supply Uniform Sorting
DESCRIPTION:Cras dapibus ullamcorper dictum. Vivamus nec erat placerat felis scelerisque porttitor in ac turpis. In nec imperdiet turpis. Suspendisse quis orci ut orci pulvinar eleifend. Nulla eu mattis ipsum. Integer eget sagittis nulla. Praesent consectetur lacus et maximus eleifend. Integer non lacus dui. Mauris tortor diam\, laoreet quis commodo vitae\, sodales vel augue.| Sed rutrum\, libero non pretium tristique\, arcu mi sollicitudin ex\, quis venenatis orci tellus vel dolor. Donec gravida\, dolor ut auctor facilisis\, enim dolor pellentesque lectus\, nec vehicula nibh risus ac leo. Mauris volutpat aliquam tellus nec rhoncus. Aliquam et nibh pulvinar\, sodales nibh et\, pretium urna. Vivamus quam augue\, maximus in consequat imperdiet\, iaculis non nibh. Aliquam erat volutpat. Curabitur venenatis massa sed lacus tristique\, non auctor nisl sodales. Sed ultricies lacus ut libero faucibus fringilla. Ut nisi tellus\, posuere vel mattis nec\, convallis a metus. Nullam elementum molestie felis nec lobortis. Cras at justo eu elit semper tempor sed quis orci. In risus magna\, malesuada vel elementum ut\, finibus et nunc. \n 
URL:https://fthcmow.org/event/school-supply-uniform-sorting/
LOCATION:Central Park\, Brooklyn\, NY 10036\, New York\, NY\, United States
CATEGORIES:Events
ATTACH;FMTTYPE=image/jpeg:https://fthcmow.org/wp-content/uploads/2017/09/04.jpg
ORGANIZER;CN="Nick Sims":MAILTO:sims@example.com
END:VEVENT
BEGIN:VEVENT
DTSTART;VALUE=DATE:20171223
DTEND;VALUE=DATE:20171228
DTSTAMP:20260424T153205
CREATED:20160705T000000Z
LAST-MODIFIED:20160705T000000Z
UID:10800-1513987200-1514419199@fthcmow.org
SUMMARY:My Father's House Show up and Serve
DESCRIPTION:Cras dapibus ullamcorper dictum. Vivamus nec erat placerat felis scelerisque porttitor in ac turpis. In nec imperdiet turpis. Suspendisse quis orci ut orci pulvinar eleifend. Nulla eu mattis ipsum. Integer eget sagittis nulla. Praesent consectetur lacus et maximus eleifend. Integer non lacus dui. Mauris tortor diam\, laoreet quis commodo vitae\, sodales vel augue.| Sed rutrum\, libero non pretium tristique\, arcu mi sollicitudin ex\, quis venenatis orci tellus vel dolor. Donec gravida\, dolor ut auctor facilisis\, enim dolor pellentesque lectus\, nec vehicula nibh risus ac leo. Mauris volutpat aliquam tellus nec rhoncus. Aliquam et nibh pulvinar\, sodales nibh et\, pretium urna. Vivamus quam augue\, maximus in consequat imperdiet\, iaculis non nibh. Aliquam erat volutpat. Curabitur venenatis massa sed lacus tristique\, non auctor nisl sodales. Sed ultricies lacus ut libero faucibus fringilla. Ut nisi tellus\, posuere vel mattis nec\, convallis a metus. Nullam elementum molestie felis nec lobortis. Cras at justo eu elit semper tempor sed quis orci. In risus magna\, malesuada vel elementum ut\, finibus et nunc. \n 
URL:https://fthcmow.org/event/my-fathers-house-show-up-and-serve/
LOCATION:Central Park\, Brooklyn\, NY 10036\, New York\, NY\, United States
CATEGORIES:Events
ATTACH;FMTTYPE=image/jpeg:https://fthcmow.org/wp-content/uploads/2017/09/04.jpg
ORGANIZER;CN="Nick Sims":MAILTO:sims@example.com
END:VEVENT
BEGIN:VEVENT
DTSTART;VALUE=DATE:20171220
DTEND;VALUE=DATE:20171225
DTSTAMP:20260424T153205
CREATED:20160726T000000Z
LAST-MODIFIED:20160726T000000Z
UID:10805-1513728000-1514159999@fthcmow.org
SUMMARY:Your Summer Reading List
DESCRIPTION:Cras dapibus ullamcorper dictum. Vivamus nec erat placerat felis scelerisque porttitor in ac turpis. In nec imperdiet turpis. Suspendisse quis orci ut orci pulvinar eleifend. Nulla eu mattis ipsum. Integer eget sagittis nulla. Praesent consectetur lacus et maximus eleifend. Integer non lacus dui. Mauris tortor diam\, laoreet quis commodo vitae\, sodales vel augue.| Sed rutrum\, libero non pretium tristique\, arcu mi sollicitudin ex\, quis venenatis orci tellus vel dolor. Donec gravida\, dolor ut auctor facilisis\, enim dolor pellentesque lectus\, nec vehicula nibh risus ac leo. Mauris volutpat aliquam tellus nec rhoncus. Aliquam et nibh pulvinar\, sodales nibh et\, pretium urna. Vivamus quam augue\, maximus in consequat imperdiet\, iaculis non nibh. Aliquam erat volutpat. Curabitur venenatis massa sed lacus tristique\, non auctor nisl sodales. Sed ultricies lacus ut libero faucibus fringilla. Ut nisi tellus\, posuere vel mattis nec\, convallis a metus. Nullam elementum molestie felis nec lobortis. Cras at justo eu elit semper tempor sed quis orci. In risus magna\, malesuada vel elementum ut\, finibus et nunc. \n 
URL:https://fthcmow.org/event/your-summer-reading-list/
LOCATION:Central Park\, Brooklyn\, NY 10036\, New York\, NY\, United States
CATEGORIES:Events
ATTACH;FMTTYPE=image/jpeg:https://fthcmow.org/wp-content/uploads/2017/09/03.jpg
ORGANIZER;CN="Nick Sims":MAILTO:sims@example.com
END:VEVENT
END:VCALENDAR